BEGIN:VCALENDAR
VERSION:2.0
PRODID:-//RIGHTHERE//CALENDARIZE IT V3.2//EN
BEGIN:VTIMEZONE
TZID:Europe/Rome
BEGIN:STANDARD
DTSTART:20251026T010000
TZOFFSETFROM:+0200
TZOFFSETTO:+0100
TZNAME:CET
END:STANDARD
BEGIN:DAYLIGHT
DTSTART:20260329T010000
TZOFFSETFROM:+0100
TZOFFSETTO:+0200
TZNAME:CEST
END:DAYLIGHT
BEGIN:STANDARD
DTSTART:20261025T010000
TZOFFSETFROM:+0200
TZOFFSETTO:+0100
TZNAME:CET
END:STANDARD
END:VTIMEZONE
BEGIN:VEVENT
UID:10513-events@roma.federmanager.it
DTSTART;TZID=Europe/Rome:20240516T150000
DTEND;TZID=Europe/Rome:20240516T180000
DTSTAMP;TZID=Europe/Rome:20240429T115055
SUMMARY:IloT E LA TRANSIZIONE ENERGETICA PROSPETTIVE PER IL FUTURO
URL:https://roma.federmanager.it/events/ilot-e-la-transizione-energetica-pr
 ospettive-per-il-futuro/
ORGANIZER;CN=Fedemanager Roma:
LOCATION:Via Ravenna\, 14\, 00161 Roma RM
END:VEVENT
END:VCALENDAR