BEGIN:VCALENDAR
VERSION:2.0
PRODID:-//RIGHTHERE//CALENDARIZE IT V3.2//EN
BEGIN:VTIMEZONE
TZID:Europe/Rome
BEGIN:STANDARD
DTSTART:20251026T010000
TZOFFSETFROM:+0200
TZOFFSETTO:+0100
TZNAME:CET
END:STANDARD
BEGIN:DAYLIGHT
DTSTART:20260329T010000
TZOFFSETFROM:+0100
TZOFFSETTO:+0200
TZNAME:CEST
END:DAYLIGHT
BEGIN:STANDARD
DTSTART:20261025T010000
TZOFFSETFROM:+0200
TZOFFSETTO:+0100
TZNAME:CET
END:STANDARD
END:VTIMEZONE
BEGIN:VEVENT
UID:3450-events@roma.federmanager.it
DTSTART;TZID=Europe/Rome:20180521T163000
DTEND;TZID=Europe/Rome:20180521T200000
DTSTAMP;TZID=Europe/Rome:20180503T155120
SUMMARY:Sempre più SMART WORKING
URL:https://roma.federmanager.it/events/smart-working-2/
LOCATION:Via Ravenna\, 14\, 00161 Roma RM
END:VEVENT
END:VCALENDAR