BEGIN:VCALENDAR
VERSION:2.0
PRODID:-//RIGHTHERE//CALENDARIZE IT V3.2//EN
BEGIN:VTIMEZONE
TZID:Europe/Rome
BEGIN:STANDARD
DTSTART:20251026T010000
TZOFFSETFROM:+0200
TZOFFSETTO:+0100
TZNAME:CET
END:STANDARD
BEGIN:DAYLIGHT
DTSTART:20260329T010000
TZOFFSETFROM:+0100
TZOFFSETTO:+0200
TZNAME:CEST
END:DAYLIGHT
BEGIN:STANDARD
DTSTART:20261025T010000
TZOFFSETFROM:+0200
TZOFFSETTO:+0100
TZNAME:CET
END:STANDARD
END:VTIMEZONE
BEGIN:VEVENT
UID:4429-events@roma.federmanager.it
DTSTART;TZID=Europe/Rome:20190130T100000
DTEND;TZID=Europe/Rome:20190130T130000
DTSTAMP;TZID=Europe/Rome:20190117T104420
SUMMARY:Una Strategia Energetica per l’Italia
URL:https://roma.federmanager.it/events/strategia-energetica-litalia/
LOCATION:Auditorium Via Veneto - Fintecna
END:VEVENT
END:VCALENDAR