BEGIN:VCALENDAR
VERSION:2.0
PRODID:-//RIGHTHERE//CALENDARIZE IT V3.2//EN
BEGIN:VTIMEZONE
TZID:Europe/Rome
BEGIN:STANDARD
DTSTART:20251026T010000
TZOFFSETFROM:+0200
TZOFFSETTO:+0100
TZNAME:CET
END:STANDARD
BEGIN:DAYLIGHT
DTSTART:20260329T010000
TZOFFSETFROM:+0100
TZOFFSETTO:+0200
TZNAME:CEST
END:DAYLIGHT
BEGIN:STANDARD
DTSTART:20261025T010000
TZOFFSETFROM:+0200
TZOFFSETTO:+0100
TZNAME:CET
END:STANDARD
END:VTIMEZONE
BEGIN:VEVENT
UID:9344-events@roma.federmanager.it
DTSTART;TZID=Europe/Rome:20230419T153000
DTEND;TZID=Europe/Rome:20230419T173000
DTSTAMP;TZID=Europe/Rome:20230406T115937
SUMMARY:I COSTI DELLA NON SICUREZZA  19 Aprile 2023  15.30/17.30
URL:https://roma.federmanager.it/events/i-costi-della-non-sicurezza/
ORGANIZER;CN=Fedemanager Roma:
END:VEVENT
END:VCALENDAR